BEGIN:VCALENDAR
VERSION:2.0
PRODID:-//HOPE - ECPv6.15.17.1//NONSGML v1.0//EN
CALSCALE:GREGORIAN
METHOD:PUBLISH
X-ORIGINAL-URL:https://hopews.org
X-WR-CALDESC:Events for HOPE
REFRESH-INTERVAL;VALUE=DURATION:PT1H
X-Robots-Tag:noindex
X-PUBLISHED-TTL:PT1H
BEGIN:VTIMEZONE
TZID:UTC
BEGIN:STANDARD
TZOFFSETFROM:+0000
TZOFFSETTO:+0000
TZNAME:UTC
DTSTART:20240101T000000
END:STANDARD
END:VTIMEZONE
BEGIN:VEVENT
DTSTART;TZID=UTC:20251104T164500
DTEND;TZID=UTC:20251104T180000
DTSTAMP:20260421T111003
CREATED:20251103T100312Z
LAST-MODIFIED:20251103T100921Z
UID:2527-1762274700-1762279200@hopews.org
SUMMARY:Kids Cooking Classes
DESCRIPTION:Our cooking classes are from 4:45pm-6pm on Tuesdays.  Families will learn to cook a fun meal for the entire family demonstrated by local culinary professionals For more information about our cooking classes\, please email info@hopews.org.  Registration is required and space is limited.  Our Kids Cooking Classes are made possible by The Crabtree Foundation and Food Lion Feeds.
URL:https://hopews.org/event/kids-cooking-classes/
END:VEVENT
BEGIN:VEVENT
DTSTART;TZID=UTC:20251105T100000
DTEND;TZID=UTC:20251105T110000
DTSTAMP:20260421T111003
CREATED:20251103T100806Z
LAST-MODIFIED:20251103T100806Z
UID:2529-1762336800-1762340400@hopews.org
SUMMARY:Nourishing H.O.P.E. - First Foods
DESCRIPTION:New and expectant parents are welcome to register for this class to learn how to make fresh baby food for your baby.  This class is in partnership with Total Maternal Support.  Space is limited and registration is required.  This program is made possible through the generous support of Centenary Methodist Church in Winston Salem.   For more information about this program\, please email info@hopews.org.
URL:https://hopews.org/event/nourishing-h-o-p-e-first-foods/
END:VEVENT
END:VCALENDAR