BEGIN:VCALENDAR
VERSION:2.0
PRODID:-//HOPE - ECPv6.15.17.1//NONSGML v1.0//EN
CALSCALE:GREGORIAN
METHOD:PUBLISH
X-ORIGINAL-URL:https://hopews.org
X-WR-CALDESC:Events for HOPE
REFRESH-INTERVAL;VALUE=DURATION:PT1H
X-Robots-Tag:noindex
X-PUBLISHED-TTL:PT1H
BEGIN:VTIMEZONE
TZID:UTC
BEGIN:STANDARD
TZOFFSETFROM:+0000
TZOFFSETTO:+0000
TZNAME:UTC
DTSTART:20240101T000000
END:STANDARD
END:VTIMEZONE
BEGIN:VEVENT
DTSTART;TZID=UTC:20251006T093000
DTEND;TZID=UTC:20251006T163000
DTSTAMP:20260421T123140
CREATED:20250206T193349Z
LAST-MODIFIED:20250513T115318Z
UID:2375-1759743000-1759768200@hopews.org
SUMMARY:8th Annual HOPE Golf Classic – Monday\, October 6th\, 2025 at Forsyth Country Club
DESCRIPTION:Our 8th Annual HOPE Golf Classic is set for October 6th – registration opens at 9:30am and there is a Shotgun Start at 11:00am.\nEnjoy a beautiful day out on an amazing course\, with delicious food & beverages provided throughout the event.\nOpportunities for individual golfers\, foursomes and Sponsorships! \nProceeds from Golfer Registrations and Sponsorships will help fund HOPE’s efforts to distribute nutritious meals to children in need and fresh fruits and vegetables to hundreds of families struggling with food insecurity right here in Winston-Salem. \nContact Stephanie Fisher Kennedy at Stephanie@HOPEWS.org for more details and sponsorship opportunities. \n 
URL:https://hopews.org/event/8th-annual-hope-golf-classic-monday-october-6th-2025-at-forsyth-country-club/
LOCATION:Forsyth Country Club\, 3101 Country Club Road\, Winston Salem\, 27104\, United States
CATEGORIES:GOLFEVENT
ORGANIZER;CN="HOPE of Winston-Salem":MAILTO:info@hopews.org
END:VEVENT
END:VCALENDAR