BEGIN:VCALENDAR
VERSION:2.0
PRODID:-//HOPE - ECPv6.15.17.1//NONSGML v1.0//EN
CALSCALE:GREGORIAN
METHOD:PUBLISH
X-WR-CALNAME:HOPE
X-ORIGINAL-URL:https://hopews.org
X-WR-CALDESC:Events for HOPE
REFRESH-INTERVAL;VALUE=DURATION:PT1H
X-Robots-Tag:noindex
X-PUBLISHED-TTL:PT1H
BEGIN:VTIMEZONE
TZID:UTC
BEGIN:STANDARD
TZOFFSETFROM:+0000
TZOFFSETTO:+0000
TZNAME:UTC
DTSTART:20220101T000000
END:STANDARD
END:VTIMEZONE
BEGIN:VEVENT
DTSTART;TZID=UTC:20230321T080000
DTEND;TZID=UTC:20230321T170000
DTSTAMP:20260423T115932
CREATED:20230223T191626Z
LAST-MODIFIED:20230223T191658Z
UID:2100-1679385600-1679418000@hopews.org
SUMMARY:Neighborhood Market
DESCRIPTION:
URL:https://hopews.org/event/neighborhood-market-5/
LOCATION:Neighborhood Market – HOPEQUARTERS\, 355 NW Crawford Place\, Winston-Salem\, NC\, 27105\, United States
END:VEVENT
BEGIN:VEVENT
DTSTART;TZID=UTC:20230314T160000
DTEND;TZID=UTC:20230314T173000
DTSTAMP:20260423T115932
CREATED:20230223T190918Z
LAST-MODIFIED:20230223T190940Z
UID:2098-1678809600-1678815000@hopews.org
SUMMARY:Cooking Class - March 14 4:15-5:15 - Must Pre Register
DESCRIPTION:
URL:https://hopews.org/event/cooking-class-march-14-415-515-must-pre-register/
END:VEVENT
BEGIN:VEVENT
DTSTART;TZID=UTC:20230314T150000
DTEND;TZID=UTC:20230314T170000
DTSTAMP:20260423T115932
CREATED:20230223T184254Z
LAST-MODIFIED:20230223T184254Z
UID:2092-1678806000-1678813200@hopews.org
SUMMARY:Neighborhood Market
DESCRIPTION:
URL:https://hopews.org/event/neighborhood-market-4/
LOCATION:Neighborhood Market – HOPEQUARTERS\, 355 NW Crawford Place\, Winston-Salem\, NC\, 27105\, United States
END:VEVENT
BEGIN:VEVENT
DTSTART;TZID=UTC:20230307T160000
DTEND;TZID=UTC:20230307T173000
DTSTAMP:20260423T115932
CREATED:20230223T190816Z
LAST-MODIFIED:20230223T190838Z
UID:2096-1678204800-1678210200@hopews.org
SUMMARY:Cooking Class - March 7 4:15-5:15 - Must Pre Register
DESCRIPTION:
URL:https://hopews.org/event/cooking-class-march-7-415-515-must-pre-register/
END:VEVENT
BEGIN:VEVENT
DTSTART;TZID=UTC:20230307T150000
DTEND;TZID=UTC:20230307T170000
DTSTAMP:20260423T115932
CREATED:20230223T184211Z
LAST-MODIFIED:20230223T184211Z
UID:2090-1678201200-1678208400@hopews.org
SUMMARY:Neighborhood Market
DESCRIPTION:
URL:https://hopews.org/event/neighborhood-market-3/
LOCATION:Neighborhood Market – HOPEQUARTERS\, 355 NW Crawford Place\, Winston-Salem\, NC\, 27105\, United States
END:VEVENT
BEGIN:VEVENT
DTSTART;TZID=UTC:20230228T150000
DTEND;TZID=UTC:20230228T170000
DTSTAMP:20260423T115932
CREATED:20230223T184125Z
LAST-MODIFIED:20230223T184608Z
UID:2088-1677596400-1677603600@hopews.org
SUMMARY:Neighborhood Market
DESCRIPTION:
URL:https://hopews.org/event/neighborhood-market-2/
LOCATION:Neighborhood Market – HOPEQUARTERS\, 355 NW Crawford Place\, Winston-Salem\, NC\, 27105\, United States
END:VEVENT
BEGIN:VEVENT
DTSTART;TZID=UTC:20230207T150000
DTEND;TZID=UTC:20230207T170000
DTSTAMP:20260423T115932
CREATED:20230208T154228Z
LAST-MODIFIED:20230223T183604Z
UID:1824-1675782000-1675789200@hopews.org
SUMMARY:Neighborhood Market
DESCRIPTION:
URL:https://hopews.org/event/neighborhood-market/
LOCATION:Neighborhood Market – HOPEQUARTERS\, 355 NW Crawford Place\, Winston-Salem\, NC\, 27105\, United States
END:VEVENT
END:VCALENDAR