BEGIN:VCALENDAR
VERSION:2.0
PRODID:-//HOPE - ECPv6.15.17.1//NONSGML v1.0//EN
CALSCALE:GREGORIAN
METHOD:PUBLISH
X-ORIGINAL-URL:https://hopews.org
X-WR-CALDESC:Events for HOPE
REFRESH-INTERVAL;VALUE=DURATION:PT1H
X-Robots-Tag:noindex
X-PUBLISHED-TTL:PT1H
BEGIN:VTIMEZONE
TZID:America/New_York
BEGIN:DAYLIGHT
TZOFFSETFROM:-0500
TZOFFSETTO:-0400
TZNAME:EDT
DTSTART:20220313T070000
END:DAYLIGHT
BEGIN:STANDARD
TZOFFSETFROM:-0400
TZOFFSETTO:-0500
TZNAME:EST
DTSTART:20221106T060000
END:STANDARD
BEGIN:DAYLIGHT
TZOFFSETFROM:-0500
TZOFFSETTO:-0400
TZNAME:EDT
DTSTART:20230312T070000
END:DAYLIGHT
BEGIN:STANDARD
TZOFFSETFROM:-0400
TZOFFSETTO:-0500
TZNAME:EST
DTSTART:20231105T060000
END:STANDARD
BEGIN:DAYLIGHT
TZOFFSETFROM:-0500
TZOFFSETTO:-0400
TZNAME:EDT
DTSTART:20240310T070000
END:DAYLIGHT
BEGIN:STANDARD
TZOFFSETFROM:-0400
TZOFFSETTO:-0500
TZNAME:EST
DTSTART:20241103T060000
END:STANDARD
END:VTIMEZONE
BEGIN:VEVENT
DTSTART;TZID=America/New_York:20230826T103000
DTEND;TZID=America/New_York:20230826T233000
DTSTAMP:20260423T050951
CREATED:20230803T162126Z
LAST-MODIFIED:20230803T162126Z
UID:2169-1693045800-1693092600@hopews.org
SUMMARY:Bookmarks Back to School Storytime with HOPE
DESCRIPTION:J﻿oin us for Storytime with Hope of Winston-Salem. Celebrate the end of Summer and start to a new school year!\nFamilies will enjoy activities such as making bookmarks and planting your own basil. Activities will be outside (depending on weather) and prepare to be hands on. \nThis is a free event for all families! Registration is requested. Please register the number of people in your family attending the event. \nSaturday\, August 26\, 2023 at 10:30am \nat Bookmarks located at 675 W 4th St Winston Salem\, NC 27101 \nD﻿oors Open at 10am \nActivities and Readings begin at 10:30pm and will run until 12pm. \nT﻿o ask questions about accessibility or request accommodations\, please contact Bookmarks at info@bookmarksnc.org or (336) 747-1471 x1001. At least two weeks’ notice will allow us to provide the best experience possible for you and your guests. \nA﻿bout Hope of WS \nH.O.P.E. of Winston-Salem envisions a world where all children and families have access to nutritious food for their families and improved health outcomes over the course of their lives. \nH.O.P.E. of Winston-Salem works at the intersection of children’s health and food insecurity. We execute weekend distributions of nutritious meals for children and fresh fruits and vegetables for families struggling with food insecurity. We also address health and food insecurity issues through our Food and Health Education initiatives and engage with the food ecosystem in and around Forsyth County. \nA﻿bout Bookmarks \nBookmarks is a literary arts nonprofit that cultivates community by bringing people of all ages together with books and authors who educate\, inspire\, challenge\, and entertain. \nWe imagine a community where the power of the book brings forth connection and belonging for every person. \nBookmarks’ bookstore was designed and constructed in order to meet the need for an independent bookstore in downtown Winston-Salem and a space to host community events. The bookstore opened its doors in July of 2017 with 4\,200 square feet of space\, including a stage\, a conference room\, offices\, and mobile bookshelves that allow for an easy transformation into a community gathering space. Bookmarks hosts more than 15 community events each month. \nAll bookstore profits support Bookmarks’ nonprofit outreach programs\, and each time you round up at the register\, you are helping us connect members of our community with books and authors. \nBook selections include a wide range of topics and authors\, including YA\, sci-fi/fantasy\, general fiction\, nonfiction\, poetry\, memoir\, mystery/thriller\, cookbooks\, travel books\, and regional books. Bookmarks has something for everyone—stop by today to find your next adventure or shop online.
URL:https://hopews.org/event/bookmarks-back-to-school-storytime-with-hope/
LOCATION:Bookmarks\, 675 W 4th St\, Winston-Salem\, NC\, 27106\, United States
CATEGORIES:family
ATTACH;FMTTYPE=image/png:https://hopews.org/wp-content/uploads/2023/08/August-Storytime-Back-to-School-Bash.png
ORGANIZER;CN="Bookmarks":MAILTO:info@bookmarksnc.org
END:VEVENT
END:VCALENDAR